BEGIN:VCALENDAR
VERSION:2.0
PRODID:-//Squarespace Inc/Squarespace 6//v6//EN
BEGIN:VEVENT
UID:545c0e88e4b02ca19c73bece@squarespace.com
DTSTAMP:20141107T001747Z
DTSTART:20141122T003000Z
DTEND:20141122T013000Z
SUMMARY:All 13/U Sections - Knockout Finals
END:VEVENT
END:VCALENDAR
