BEGIN:VCALENDAR
VERSION:2.0
PRODID:-//Squarespace Inc/Squarespace 6//v6//EN
BEGIN:VEVENT
UID:54864770e4b087c4bcbae868@squarespace.com
DTSTAMP:20141209T005125Z
DTSTART:20141210T080000Z
DTEND:20141210T100000Z
SUMMARY:Sections 3 and 4 Grand Finals
END:VEVENT
END:VCALENDAR
