BEGIN:VCALENDAR
VERSION:2.0
PRODID:-//Squarespace Inc/Squarespace 6//v6//EN
BEGIN:VEVENT
UID:54864735e4b0212b97a43eca@squarespace.com
DTSTAMP:20141209T005042Z
DTSTART:20141211T080000Z
DTEND:20141211T100000Z
SUMMARY:Sections 5 and 6 Grand Finals
END:VEVENT
END:VCALENDAR
