BEGIN:VCALENDAR
VERSION:2.0
PRODID:-//Squarespace Inc/Squarespace 6//v6//EN
BEGIN:VEVENT
UID:5486481de4b0235f3df0636a@squarespace.com
DTSTAMP:20141209T005504Z
DTSTART:20141221T230000Z
DTEND:20150112T230000Z
SUMMARY:Office Closed
END:VEVENT
END:VCALENDAR
