BEGIN:VCALENDAR
VERSION:2.0
PRODID:-//Squarespace Inc/Squarespace 6//v6//EN
BEGIN:VEVENT
UID:5460291fe4b01d7732a29ef3@squarespace.com
DTSTAMP:20141110T025748Z
DTSTART:20141231T060000Z
DTEND:20141231T070000Z
SUMMARY:2015 Season 1 Registration - CLOSES
END:VEVENT
END:VCALENDAR
