BEGIN:VCALENDAR
VERSION:2.0
PRODID:-//Squarespace Inc/Squarespace 6//v6//EN
BEGIN:VEVENT
UID:54864673e4b08e2409602a7a@squarespace.com
DTSTAMP:20141209T004814Z
DTSTART:20141209T080000Z
DTEND:20141209T093000Z
SUMMARY:Section 1 Grand Final
END:VEVENT
END:VCALENDAR
