BEGIN:VCALENDAR
VERSION:2.0
PRODID:-//Squarespace Inc/Squarespace 6//v6//EN
BEGIN:VEVENT
UID:54864988e4b05c7e156370cf@squarespace.com
DTSTAMP:20141209T010043Z
DTSTART:20150130T060000Z
DTEND:20150130T110000Z
SUMMARY:All Fixtures available
END:VEVENT
END:VCALENDAR
