BEGIN:VCALENDAR
VERSION:2.0
PRODID:-//Squarespace Inc/Squarespace 6//v6//EN
BEGIN:VEVENT
UID:55ecf03fe4b022a6a1f0697a@squarespace.com
DTSTAMP:20150907T020546Z
DTSTART:20151017T220000Z
DTEND:20151018T020000Z
SUMMARY:Prahran Rep Trials - 13 & 15's - Round 1
END:VEVENT
END:VCALENDAR
