BEGIN:VCALENDAR
VERSION:2.0
PRODID:-//Squarespace Inc/Squarespace 6//v6//EN
BEGIN:VEVENT
UID:55779dd5e4b03b8454b8e883@squarespace.com
DTSTAMP:20150907T020810Z
DTSTART:20150920T230000Z
DTEND:20150922T050000Z
SUMMARY:Julie Corletto School Holiday Clinic
END:VEVENT
END:VCALENDAR
