BEGIN:VCALENDAR
VERSION:2.0
PRODID:-//Squarespace Inc/Squarespace 6//v6//EN
BEGIN:VEVENT
UID:55ecf110e4b058cd816cd39c@squarespace.com
DTSTAMP:20150907T020722Z
DTSTART:20151024T220000Z
DTEND:20151025T020000Z
SUMMARY:Prahran Rep Trials - 13 & 15's - Round 2
END:VEVENT
END:VCALENDAR
