BEGIN:VCALENDAR
VERSION:2.0
PRODID:-//Squarespace Inc/Squarespace 6//v6//EN
BEGIN:VEVENT
UID:545078ffe4b0fe2c61007fa0@squarespace.com
DTSTAMP:20141109T112848Z
DTSTART:20150124T220000Z
DTEND:20150125T020000Z
SUMMARY:Rep Team training begins
END:VEVENT
END:VCALENDAR
