BEGIN:VCALENDAR
VERSION:2.0
PRODID:-//Squarespace Inc/Squarespace 6//v6//EN
BEGIN:VEVENT
UID:54864aa2e4b0235f3df06f38@squarespace.com
DTSTAMP:20141209T010554Z
DTSTART:20150214T220000Z
DTEND:20150214T230000Z
SUMMARY:11/U Rep Tryouts Session1
END:VEVENT
END:VCALENDAR
