BEGIN:VCALENDAR
VERSION:2.0
PRODID:-//Squarespace Inc/Squarespace 6//v6//EN
BEGIN:VEVENT
UID:54864b02e4b033b4dc31494f@squarespace.com
DTSTAMP:20141209T010657Z
DTSTART:20150221T220000Z
DTEND:20150221T230000Z
SUMMARY:11/U Rep Tryouts Session 2
END:VEVENT
END:VCALENDAR
