BEGIN:VCALENDAR
VERSION:2.0
PRODID:-//Squarespace Inc/Squarespace 6//v6//EN
BEGIN:VEVENT
UID:548649ece4b0b548b594a23f@squarespace.com
DTSTAMP:20141209T010252Z
DTSTART:20150206T210000Z
DTEND:20150207T040000Z
SUMMARY:Juniors 2015 Season 1 Commences -Rd1
END:VEVENT
END:VCALENDAR
