BEGIN:VCALENDAR
VERSION:2.0
PRODID:-//Squarespace Inc/Squarespace 6//v6//EN
BEGIN:VEVENT
UID:54864a4ce4b0b05d1bdc8375@squarespace.com
DTSTAMP:20141209T010416Z
DTSTART:20150209T050000Z
DTEND:20150209T110000Z
SUMMARY:Seniors 2015 Season 1 Commences - Rd1
END:VEVENT
END:VCALENDAR
