BEGIN:VCALENDAR
VERSION:2.0
PRODID:-//Squarespace Inc/Squarespace 6//v6//EN
BEGIN:VEVENT
UID:54ed2d6be4b01768f45b10eb@squarespace.com
DTSTAMP:20150225T020415Z
DTSTART:20150314T210000Z
DTEND:20150315T040000Z
SUMMARY:Ariels Netball Tournament
END:VEVENT
END:VCALENDAR
