BEGIN:VCALENDAR
VERSION:2.0
PRODID:-//Squarespace Inc/Squarespace 6//v6//EN
BEGIN:VEVENT
UID:54ed2c2de4b0328389bc3db4@squarespace.com
DTSTAMP:20150225T020221Z
DTSTART:20150314T220000Z
DTEND:20150314T230000Z
SUMMARY:Rep Team Photos - 11/1\, 11/2 & 13/2
END:VEVENT
END:VCALENDAR
