BEGIN:VCALENDAR
VERSION:2.0
PRODID:-//Squarespace Inc/Squarespace 6//v6//EN
BEGIN:VEVENT
UID:54ed2cbde4b08d8eee53ef9d@squarespace.com
DTSTAMP:20150225T020232Z
DTSTART:20150321T230000Z
DTEND:20150322T020000Z
SUMMARY:Rep Team Photos - 13/1\, 15/3\, 15/2\, & 15/1
END:VEVENT
END:VCALENDAR
