BEGIN:VCALENDAR
VERSION:2.0
PRODID:-//Squarespace Inc/Squarespace 6//v6//EN
BEGIN:VEVENT
UID:5525d47fe4b00afb743a4816@squarespace.com
DTSTAMP:20150409T040711Z
DTSTART:20150411T230000Z
DTEND:20150412T030000Z
SUMMARY:Rep Training
END:VEVENT
END:VCALENDAR
