BEGIN:VCALENDAR
VERSION:2.0
PRODID:-//Squarespace Inc/Squarespace 6//v6//EN
BEGIN:VEVENT
UID:5525f944e4b0697f95edb29e@squarespace.com
DTSTAMP:20150409T040336Z
DTSTART:20150414T090000Z
DTEND:20150414T120000Z
SUMMARY:Rd#8 for 15s\, 17s\, Section 1
END:VEVENT
END:VCALENDAR
