BEGIN:VCALENDAR
VERSION:2.0
PRODID:-//Squarespace Inc/Squarespace 6//v6//EN
BEGIN:VEVENT
UID:5525d4ffe4b0e591f749e82b@squarespace.com
DTSTAMP:20150409T040554Z
DTSTART:20150415T090000Z
DTEND:20150415T120000Z
SUMMARY:Rd#8 for S2 and S3
END:VEVENT
END:VCALENDAR
