BEGIN:VCALENDAR
VERSION:2.0
PRODID:-//Squarespace Inc/Squarespace 6//v6//EN
BEGIN:VEVENT
UID:5525fb0be4b095968484ccf5@squarespace.com
DTSTAMP:20150409T040839Z
DTSTART:20150416T090000Z
DTEND:20150416T120000Z
SUMMARY:Rd#7 for S4 and S5
END:VEVENT
END:VCALENDAR
