BEGIN:VCALENDAR
VERSION:2.0
PRODID:-//Squarespace Inc/Squarespace 6//v6//EN
BEGIN:VEVENT
UID:5525fcb2e4b00afb743b0658@squarespace.com
DTSTAMP:20150409T041530Z
DTSTART:20150417T221500Z
DTEND:20150418T014500Z
SUMMARY:Juniors at Bialik - Rd#8
END:VEVENT
END:VCALENDAR
