BEGIN:VCALENDAR
VERSION:2.0
PRODID:-//Squarespace Inc/Squarespace 6//v6//EN
BEGIN:VEVENT
UID:5525fc5fe4b004d7b9ca16c1@squarespace.com
DTSTAMP:20150409T041426Z
DTSTART:20150417T225000Z
DTEND:20150418T050000Z
SUMMARY:Juniors at Orrong Romanis - Rd#8
END:VEVENT
END:VCALENDAR
