BEGIN:VCALENDAR
VERSION:2.0
PRODID:-//Squarespace Inc/Squarespace 6//v6//EN
BEGIN:VEVENT
UID:5525fbd4e4b0f76cd2c733fb@squarespace.com
DTSTAMP:20150409T041259Z
DTSTART:20150417T220000Z
DTEND:20150417T224500Z
SUMMARY:NetSetGo - Session #5
END:VEVENT
END:VCALENDAR
