BEGIN:VCALENDAR
VERSION:2.0
PRODID:-//Squarespace Inc/Squarespace 6//v6//EN
BEGIN:VEVENT
UID:553dd807e4b04c98280e6c98@squarespace.com
DTSTAMP:20150427T063319Z
DTSTART:20150509T230000Z
DTEND:20150510T030000Z
SUMMARY:Mothers Day - No Rep Training
END:VEVENT
END:VCALENDAR
