BEGIN:VCALENDAR
VERSION:2.0
PRODID:-//Squarespace Inc/Squarespace 6//v6//EN
BEGIN:VEVENT
UID:553dd671e4b00f34b15768e9@squarespace.com
DTSTAMP:20150427T062819Z
DTSTART:20150502T220000Z
DTEND:20150503T030000Z
SUMMARY:Waverley District Tournament - Rep Teams - 11/1\, 11/2\, 15/3
END:VEVENT
END:VCALENDAR
