BEGIN:VCALENDAR
VERSION:2.0
PRODID:-//Squarespace Inc/Squarespace 6//v6//EN
BEGIN:VEVENT
UID:553dd869e4b0955fe53caf59@squarespace.com
DTSTAMP:20150427T063449Z
DTSTART:20150606T230000Z
DTEND:20150607T030000Z
SUMMARY:Queens Birthday - No Rep Training
END:VEVENT
END:VCALENDAR
