BEGIN:VCALENDAR
VERSION:2.0
PRODID:-//Squarespace Inc/Squarespace 6//v6//EN
BEGIN:VEVENT
UID:55779e75e4b02a4a537324f0@squarespace.com
DTSTAMP:20150610T022346Z
DTSTART:20150710T090000Z
DTEND:20150710T110000Z
SUMMARY:Henderson Region Netball Trials
END:VEVENT
END:VCALENDAR
