BEGIN:VCALENDAR
VERSION:2.0
PRODID:-//Squarespace Inc/Squarespace 6//v6//EN
BEGIN:VEVENT
UID:55779efde4b0b801007603bd@squarespace.com
DTSTAMP:20150610T022153Z
DTSTART:20150717T083000Z
DTEND:20150717T100000Z
SUMMARY:Henderson Region Netball Trials
END:VEVENT
END:VCALENDAR
