BEGIN:VCALENDAR
VERSION:2.0
PRODID:-//Squarespace Inc/Squarespace 6//v6//EN
BEGIN:VEVENT
UID:55ecf1b3e4b0baa2cade3102@squarespace.com
DTSTAMP:20170606T000004Z
DTSTART:20151107T220000Z
DTEND:20151108T000000Z
SUMMARY:Prahran Rep Trials - 17's
END:VEVENT
END:VCALENDAR
